BEGIN:VCALENDAR
VERSION:2.0
PRODID:-//eventon.com NONSGML v1.0//EN
CALSCALE:GREGORIAN
METHOD:PUBLISH
BEGIN:VEVENT
UID:69ec95f4809e9
DTSTAMP:20260425T102244Z
DTSTART:20220203T000000Z
DTEND:20220203T010000Z
LOCATION:Metalines Community Library 302 Park St\,  Metaline Falls\,  WA 99153
SUMMARY:Chinese New Year Celebration
DESCRIPTION:Let&#8217;s kick off the Year of the Tiger!! We will learn abou
 t the Chinese zodiac\,  annual traditions and celebrations and then make ou
 r own tiger to get the year started off right.\nhttps://pocld.org/events/ch
 inese-new-year-celebration-2/
URL:https://pocld.org/events/chinese-new-year-celebration-2/
END:VEVENT
END:VCALENDAR