BEGIN:VCALENDAR
VERSION:2.0
PRODID:-//eventon.com NONSGML v1.0//EN
CALSCALE:GREGORIAN
METHOD:PUBLISH
BEGIN:VEVENT
UID:69eafac54afe7
DTSTAMP:20260424T050821Z
DTSTART:20220217T000000Z
DTEND:20220217T010000Z
LOCATION:Metalines Community Library 302 Park St\,  Metaline Falls\,  WA 99153
SUMMARY:Black History Month
DESCRIPTION:Let&#8217;s celebrate past and ongoing contributions of African
  Americans in our society by learning little known facts about famous\,  an
 d not so famous\,  African Americans. We&#8217;ll then test your newfound k
 nowledge with a fun game of trivia!\nhttps://pocld.org/events/black-history
 -month-2/
URL:https://pocld.org/events/black-history-month-2/
END:VEVENT
END:VCALENDAR