BEGIN:VCALENDAR
VERSION:2.0
PRODID:-//eventon.com NONSGML v1.0//EN
CALSCALE:GREGORIAN
METHOD:PUBLISH
BEGIN:VEVENT
UID:69e5b9f8719ee
DTSTAMP:20260420T053032Z
DTSTART:20220214
DTEND:20220215
LOCATION:Newport Branch Library 116 S Washington Ave\,  Newport\,  WA 99156
SUMMARY:Grab and Go: Tulip in a Heart Card
DESCRIPTION:Make a lovely heart-shaped card with a pop-up 3D tulip inside. 
 Perfect to give to a friend or a special someone.\nhttps://pocld.org/events
 /grab-and-go-tulip-in-a-heart-card/
URL:https://pocld.org/events/grab-and-go-tulip-in-a-heart-card/
END:VEVENT
END:VCALENDAR