BEGIN:VCALENDAR
VERSION:2.0
PRODID:-//eventon.com NONSGML v1.0//EN
CALSCALE:GREGORIAN
METHOD:PUBLISH
BEGIN:VEVENT
UID:69e9cc452befb
DTSTAMP:20260423T073741Z
DTSTART:20220217T000000Z
DTEND:20220217T030000Z
LOCATION:Newport Branch Library 116 S Washington Ave\,  Newport\,  WA 99156
SUMMARY:The Book Was Better Book Club
DESCRIPTION:Is the book always better than the movie? Stop by the library a
 ny time to grab this month&#8217;s book and then come in and watch the movi
 e to see which is better. This month we will be talking about The Hate U Gi
 ve by Angie Thomas and watching the 2018[..]\nhttps://pocld.org/events/the-
 book-was-better-book-club-4/
URL:https://pocld.org/events/the-book-was-better-book-club-4/
END:VEVENT
END:VCALENDAR