BEGIN:VCALENDAR
VERSION:2.0
PRODID:-//eventon.com NONSGML v1.0//EN
CALSCALE:GREGORIAN
METHOD:PUBLISH
BEGIN:VEVENT
UID:69e54aa4c23ed
DTSTAMP:20260419T213532Z
DTSTART:20211130
DTEND:20211201
LOCATION:Calispel Valley Library 107 S 1st Ave Cusick\,  WA 99119
SUMMARY:Family Holiday Craft Kits: Grab and Go
DESCRIPTION:Each kit includes enough for several projects. You may need sci
 ssors. Some projects work best with a hot glue gun but craft glue will do. 
 If you don’t have a glue gun (or don’t want to use one with younger kid
 s) ask at the library desk for a bottle of[..]\nhttps://pocld.org/events/fa
 mily-holiday-craft-kits-grab-and-go/
URL:https://pocld.org/events/family-holiday-craft-kits-grab-and-go/
END:VEVENT
END:VCALENDAR