BEGIN:VCALENDAR
VERSION:2.0
PRODID:-//eventon.com NONSGML v1.0//EN
CALSCALE:GREGORIAN
METHOD:PUBLISH
BEGIN:VEVENT
UID:69e9f4ec58e3d
DTSTAMP:20260423T103108Z
DTSTART:20211231
DTEND:20220101
LOCATION:
SUMMARY:Closed: New Year
DESCRIPTION:Closed: New Year\nhttps://pocld.org/events/closed-new-year/
URL:https://pocld.org/events/closed-new-year/
END:VEVENT
END:VCALENDAR