BEGIN:VCALENDAR
VERSION:2.0
PRODID:-//eventon.com NONSGML v1.0//EN
CALSCALE:GREGORIAN
METHOD:PUBLISH
BEGIN:VEVENT
UID:69e74f4fa6224
DTSTAMP:20260421T101959Z
DTSTART:20220509
DTEND:20220510
LOCATION:Newport Branch Library 116 S Washington Ave\,  Newport\,  WA 99156
SUMMARY:Grab and Go: Start a Nature Journal
DESCRIPTION:Connecting to nature is one of the joys of spring! Why not star
 t a nature journal to record and remember what you see on nature walks?\nht
 tps://pocld.org/events/grab-and-go-start-a-nature-journal/
URL:https://pocld.org/events/grab-and-go-start-a-nature-journal/
END:VEVENT
END:VCALENDAR