BEGIN:VCALENDAR
VERSION:2.0
PRODID:-//eventon.com NONSGML v1.0//EN
CALSCALE:GREGORIAN
METHOD:PUBLISH
BEGIN:VEVENT
UID:69ec261b2f13c
DTSTAMP:20260425T022531Z
DTSTART:20220516
DTEND:20220517
LOCATION:Newport Branch Library 116 S Washington Ave\,  Newport\,  WA 99156
SUMMARY:Grab and Go: Tissue Paper Butterfly Mobile
DESCRIPTION:These fabulous butterflies will bring color and whimsy to any r
 oom.\nhttps://pocld.org/events/grab-and-go-tissue-paper-butterfly-mobile/
URL:https://pocld.org/events/grab-and-go-tissue-paper-butterfly-mobile/
END:VEVENT
END:VCALENDAR