BEGIN:VCALENDAR
VERSION:2.0
PRODID:-//eventon.com NONSGML v1.0//EN
CALSCALE:GREGORIAN
METHOD:PUBLISH
BEGIN:VEVENT
UID:69e86b8a9169b
DTSTAMP:20260422T063242Z
DTSTART:20220418T230000Z
DTEND:20220419T000000Z
LOCATION:Metalines Community Library 302 Park St\,  Metaline Falls\,  WA 99153
SUMMARY:Messenger Bag Decorating
DESCRIPTION:Who doesn&#8217;t love a good bag? Come into the library and de
 corate a brand new messenger bag with buttons that you can customize yourse
 lf. All you need to bring is your creativity!\nhttps://pocld.org/events/mes
 senger-bag-decorating-2/
URL:https://pocld.org/events/messenger-bag-decorating-2/
END:VEVENT
END:VCALENDAR