BEGIN:VCALENDAR
VERSION:2.0
PRODID:-//eventon.com NONSGML v1.0//EN
CALSCALE:GREGORIAN
METHOD:PUBLISH
BEGIN:VEVENT
UID:69e882cda7aa4
DTSTAMP:20260422T081157Z
DTSTART:20220422T180000Z
DTEND:20220422T190000Z
LOCATION:Ione Branch Library 210 Blackwell St\,  Ione\,  WA 99139
SUMMARY:Messenger Bag Decorating
DESCRIPTION:Who doesn&#8217;t love a good bag? Come into the library and de
 corate a brand new messenger bag with buttons that you can customize yourse
 lf. All you need to bring is your creativity!\nhttps://pocld.org/events/mes
 senger-bag-decorating/
URL:https://pocld.org/events/messenger-bag-decorating/
END:VEVENT
END:VCALENDAR