BEGIN:VCALENDAR
VERSION:2.0
PRODID:-//eventon.com NONSGML v1.0//EN
CALSCALE:GREGORIAN
METHOD:PUBLISH
BEGIN:VEVENT
UID:69e62279cd3f9
DTSTAMP:20260420T125625Z
DTSTART:20220521T180000Z
DTEND:20220521T193000Z
LOCATION:Calispel Valley Library 107 S 1st Ave Cusick\,  WA 99119
SUMMARY:Bear Aware Class
DESCRIPTION:Join us and learn from local wildlife biologists about the two 
 different types of bears in our are\,  how to stay safe around them and pro
 per storage of food\,  trash and other items a curious bear might be intere
 sted in. Biologists will also cover when and how to use bear[..]\nhttps://p
 ocld.org/events/bear-aware-class/
URL:https://pocld.org/events/bear-aware-class/
END:VEVENT
END:VCALENDAR