BEGIN:VCALENDAR
VERSION:2.0
PRODID:-//eventon.com NONSGML v1.0//EN
CALSCALE:GREGORIAN
METHOD:PUBLISH
BEGIN:VEVENT
UID:69eb430e0a922
DTSTAMP:20260424T101646Z
DTSTART:20220506T220000Z
DTEND:20220506T234500Z
LOCATION:Calispel Valley Library 107 S 1st Ave Cusick\,  WA 99119
SUMMARY:First Friday: Grown Up Game Time
DESCRIPTION:Spend an afternoon playing Cribbage\,  Mexican Train\,  card ga
 mes &amp; board games. Drinks and snacks are provided and when we are done 
 you can check out the games to take home. Be sure to sign the Library of Th
 ings Statement of Understanding before checking out games for the first tim
 e.\nhttps://pocld.org/events/first-friday-grown-up-game-time-5/
URL:https://pocld.org/events/first-friday-grown-up-game-time-5/
END:VEVENT
END:VCALENDAR