BEGIN:VCALENDAR
VERSION:2.0
PRODID:-//eventon.com NONSGML v1.0//EN
CALSCALE:GREGORIAN
METHOD:PUBLISH
BEGIN:VEVENT
UID:69e9f5efab846
DTSTAMP:20260423T103527Z
DTSTART:20220607T220000Z
DTEND:20220608T000000Z
LOCATION:Newport Branch Library 116 S Washington Ave\,  Newport\,  WA 99156
SUMMARY:Kids' Writing Club
DESCRIPTION:We’re starting a writing club just for kids! Join us to learn
  about\,  practice and share your writing! Ages 5 &#8211; 8.\nhttps://pocld
 .org/events/kids-writing-club/
URL:https://pocld.org/events/kids-writing-club/
END:VEVENT
END:VCALENDAR