BEGIN:VCALENDAR
VERSION:2.0
PRODID:-//eventon.com NONSGML v1.0//EN
CALSCALE:GREGORIAN
METHOD:PUBLISH
BEGIN:VEVENT
UID:69ed95292c936
DTSTAMP:20260426T043137Z
DTSTART:20220628T050000Z
DTEND:20220627T230000Z
LOCATION:Newport Branch Library 116 S Washington Ave\,  Newport\,  WA 99156
SUMMARY:Open Switch Time
DESCRIPTION:Come play on our Nintendo Switch! Tweens and teens only.\nhttps
 ://pocld.org/events/open-switch-time-2/
URL:https://pocld.org/events/open-switch-time-2/
END:VEVENT
END:VCALENDAR