BEGIN:VCALENDAR
VERSION:2.0
PRODID:-//eventon.com NONSGML v1.0//EN
CALSCALE:GREGORIAN
METHOD:PUBLISH
BEGIN:VEVENT
UID:69ed7590e828a
DTSTAMP:20260426T021648Z
DTSTART:20220621T220000Z
DTEND:20220622T000000Z
LOCATION:Newport Branch Library 116 S Washington Ave\,  Newport\,  WA 99156
SUMMARY:Tween Writing Club
DESCRIPTION:We’re starting a writing club for tweens! Join us to learn ab
 out\,  practice and share your writing! Ages 9 &#8211; 12.\nhttps://pocld.o
 rg/events/tween-writing-club/
URL:https://pocld.org/events/tween-writing-club/
END:VEVENT
END:VCALENDAR