BEGIN:VCALENDAR
VERSION:2.0
PRODID:-//eventon.com NONSGML v1.0//EN
CALSCALE:GREGORIAN
METHOD:PUBLISH
BEGIN:VEVENT
UID:69e4ecf389dd4
DTSTAMP:20260419T145547Z
DTSTART:20220609T210000Z
DTEND:20220609T230000Z
LOCATION:Newport Branch Library 116 S Washington Ave\,  Newport\,  WA 99156
SUMMARY:Tech Help
DESCRIPTION:Need some help with your tablet\,  laptop\,  or smartphone? Com
 e in and get the help you need!\nhttps://pocld.org/events/tech-help-3/
URL:https://pocld.org/events/tech-help-3/
END:VEVENT
END:VCALENDAR