BEGIN:VCALENDAR
VERSION:2.0
PRODID:-//eventon.com NONSGML v1.0//EN
CALSCALE:GREGORIAN
METHOD:PUBLISH
BEGIN:VEVENT
UID:69e73a089c7f8
DTSTAMP:20260421T084912Z
DTSTART:20220706T180000Z
DTEND:20220706T190000Z
LOCATION:Metalines Community Library 302 Park St\,  Metaline Falls\,  WA 99153
SUMMARY:Storytime
DESCRIPTION:Let&#8217;s read a story\,  do a craft or just play games and c
 olor together!\nhttps://pocld.org/events/storytime-42/
URL:https://pocld.org/events/storytime-42/
END:VEVENT
END:VCALENDAR