BEGIN:VCALENDAR
VERSION:2.0
PRODID:-//eventon.com NONSGML v1.0//EN
CALSCALE:GREGORIAN
METHOD:PUBLISH
BEGIN:VEVENT
UID:69eca3d622270
DTSTAMP:20260425T112158Z
DTSTART:20220707T180000Z
DTEND:20220707T190000Z
LOCATION:Ione Branch Library 210 Blackwell St\,  Ione\,  WA 99139
SUMMARY:Storytime
DESCRIPTION:Let&#8217;s read a story\,  do a craft or just play games and c
 olor together!\nhttps://pocld.org/events/storytime-40/
URL:https://pocld.org/events/storytime-40/
END:VEVENT
END:VCALENDAR