BEGIN:VCALENDAR
VERSION:2.0
PRODID:-//eventon.com NONSGML v1.0//EN
CALSCALE:GREGORIAN
METHOD:PUBLISH
BEGIN:VEVENT
UID:69e7a76c64fad
DTSTAMP:20260421T163556Z
DTSTART:20220822T180000Z
DTEND:20220822T190000Z
LOCATION:Metalines Community Library 302 Park St\,  Metaline Falls\,  WA 99153
SUMMARY:Back to School
DESCRIPTION:Join us as we read stories and talk about the upcoming school y
 ear and help kids get ready and excited for the new adventures ahead!\nhttp
 s://pocld.org/events/back-to-school-3/
URL:https://pocld.org/events/back-to-school-3/
END:VEVENT
END:VCALENDAR