BEGIN:VCALENDAR
VERSION:2.0
PRODID:-//eventon.com NONSGML v1.0//EN
CALSCALE:GREGORIAN
METHOD:PUBLISH
BEGIN:VEVENT
UID:69e52dbba41a4
DTSTAMP:20260419T193211Z
DTSTART:20220713T154500Z
DTEND:20220713T164500Z
LOCATION:Calispel Valley Library 107 S 1st Ave Cusick\,  WA 99119
SUMMARY:Pickleball
DESCRIPTION:New! Now that we know how to play\,  the library will have the 
 court set up every Wednesday morning at 8:45 am through August 17th. Wear c
 omfortable clothing and bring water. Those who wish to play at other times 
 can come into the Calispel Valley Library and check out the[..]\nhttps://po
 cld.org/events/pickleball-9/
URL:https://pocld.org/events/pickleball-9/
END:VEVENT
END:VCALENDAR