BEGIN:VCALENDAR
VERSION:2.0
PRODID:-//eventon.com NONSGML v1.0//EN
CALSCALE:GREGORIAN
METHOD:PUBLISH
BEGIN:VEVENT
UID:69eb43186eb9a
DTSTAMP:20260424T101656Z
DTSTART:20220621T200000Z
DTEND:20220622T065000Z
LOCATION:Calispel Valley Library 107 S 1st Ave Cusick\,  WA 99119
SUMMARY:Traveling Lantern Theater Company
DESCRIPTION:Welcome to the Traveling Lantern Theater Company&#8217;s Camp O
 cean! Join us as we take a fact-filled voyage to the bottom of the sea.\nht
 tps://pocld.org/events/traveling-lantern-theater-company/
URL:https://pocld.org/events/traveling-lantern-theater-company/
END:VEVENT
END:VCALENDAR