BEGIN:VCALENDAR
VERSION:2.0
PRODID:-//eventon.com NONSGML v1.0//EN
CALSCALE:GREGORIAN
METHOD:PUBLISH
BEGIN:VEVENT
UID:69ecaea7dfe63
DTSTAMP:20260425T120807Z
DTSTART:20220723T180000Z
DTEND:20220723T190000Z
LOCATION:Newport Branch Library 116 S Washington Ave\,  Newport\,  WA 99156
SUMMARY:Teddy Bear Picnic
DESCRIPTION:Grab your pic-a-nic basket and join a bunch of cuddly teddy bea
 rs for a fun lunch time eating outdoors!\nhttps://pocld.org/events/teddy-be
 ar-picnic/
URL:https://pocld.org/events/teddy-bear-picnic/
END:VEVENT
END:VCALENDAR