BEGIN:VCALENDAR
VERSION:2.0
PRODID:-//eventon.com NONSGML v1.0//EN
CALSCALE:GREGORIAN
METHOD:PUBLISH
BEGIN:VEVENT
UID:69e7a083d54d3
DTSTAMP:20260421T160627Z
DTSTART:20220809T180000Z
DTEND:20220809T200000Z
LOCATION:Ione Branch Library 210 Blackwell St\,  Ione\,  WA 99139
SUMMARY:Paper Making Part I
DESCRIPTION:We will start the process of taking unwanted or old paper and r
 ecycling it into something fun\,  pretty and usable! Wear your grungy cloth
 es and join us as we start the process of making our own homemade paper and
  learn the value of recycling and reusing.\nhttps://pocld.org/events/paper-
 making-part-i/
URL:https://pocld.org/events/paper-making-part-i/
END:VEVENT
END:VCALENDAR