BEGIN:VCALENDAR
VERSION:2.0
PRODID:-//eventon.com NONSGML v1.0//EN
CALSCALE:GREGORIAN
METHOD:PUBLISH
BEGIN:VEVENT
UID:69eb5dd3bde3f
DTSTAMP:20260424T121059Z
DTSTART:20220726T183000Z
DTEND:20220726T200000Z
LOCATION:Calispel Valley Library 107 S 1st Ave Cusick\,  WA 99119
SUMMARY:Kid's Day @ the Library:  Shark Week
DESCRIPTION:11:30 Pre-school shark stories. Make your own shark hat to wear
 . Each family will receive a copy of the “Baby Shark” book\,  while sup
 plies last. &nbsp; 12:00 snacks&nbsp; &nbsp; 12:30 Crafty Kids: Marshmallow
  Sharks. Create and eat shark treats. This craft involves hot melted chocol
 ate and tools that could burn.[..]\nhttps://pocld.org/events/kids-day-the-l
 ibrary-shark-week/
URL:https://pocld.org/events/kids-day-the-library-shark-week/
END:VEVENT
END:VCALENDAR