BEGIN:VCALENDAR
VERSION:2.0
PRODID:-//eventon.com NONSGML v1.0//EN
CALSCALE:GREGORIAN
METHOD:PUBLISH
BEGIN:VEVENT
UID:69eacecd1c545
DTSTAMP:20260424T020045Z
DTSTART:20220728T223000Z
DTEND:20220729T013000Z
LOCATION:Newport Branch Library 116 S Washington Ave\,  Newport\,  WA 99156
SUMMARY:Teen Party: Franks & Yanks
DESCRIPTION:Celebrating French &amp; American freedom &amp; culture\nhttps:
 //pocld.org/events/teen-party-franks-yanks/
URL:https://pocld.org/events/teen-party-franks-yanks/
END:VEVENT
END:VCALENDAR