BEGIN:VCALENDAR
VERSION:2.0
PRODID:-//eventon.com NONSGML v1.0//EN
CALSCALE:GREGORIAN
METHOD:PUBLISH
BEGIN:VEVENT
UID:69e736cf3aa65
DTSTAMP:20260421T083527Z
DTSTART:20221104T190000Z
DTEND:20221104T230000Z
LOCATION:Calispel Valley Library 107 S 1st Ave Cusick\,  WA 99119
SUMMARY:Teen Tech
DESCRIPTION:Tweens and Teens can come do VR\,  Switch games\,  WII \,  codi
 ng with a variety of library robots and computer games.\nhttps://pocld.org/
 events/teen-tech-2/
URL:https://pocld.org/events/teen-tech-2/
END:VEVENT
END:VCALENDAR