BEGIN:VCALENDAR
VERSION:2.0
PRODID:-//eventon.com NONSGML v1.0//EN
CALSCALE:GREGORIAN
METHOD:PUBLISH
BEGIN:VEVENT
UID:69e64710f1d43
DTSTAMP:20260420T153232Z
DTSTART:20220908T210000Z
DTEND:20220908T230000Z
LOCATION:Newport Branch Library 116 S Washington Ave\,  Newport\,  WA 99156
SUMMARY:Tech Help
DESCRIPTION:Need some help with your tablet\,  laptop\,  or smartphone? Com
 e in and get the help you need!\nhttps://pocld.org/events/tech-help-4/
URL:https://pocld.org/events/tech-help-4/
END:VEVENT
END:VCALENDAR