BEGIN:VCALENDAR
VERSION:2.0
PRODID:-//eventon.com NONSGML v1.0//EN
CALSCALE:GREGORIAN
METHOD:PUBLISH
BEGIN:VEVENT
UID:69e736780e159
DTSTAMP:20260421T083400Z
DTSTART:20250724T160000Z
DTEND:20250724T170000Z
LOCATION:Ione Branch Library 210 Blackwell St\,  Ione\,  WA 99139
SUMMARY:Craft Hour
DESCRIPTION:We&#8217;ll be making I Spy jars!\nhttps://pocld.org/events/cra
 ft-hour-21/
URL:https://pocld.org/events/craft-hour-21/
END:VEVENT
END:VCALENDAR