BEGIN:VCALENDAR
VERSION:2.0
PRODID:-//eventon.com NONSGML v1.0//EN
CALSCALE:GREGORIAN
METHOD:PUBLISH
BEGIN:VEVENT
UID:69e9deb724d88
DTSTAMP:20260423T085623Z
DTSTART:20250610T003000Z
DTEND:20250610T020000Z
LOCATION:Newport Branch Library 116 S Washington Ave\,  Newport\,  WA 99156
SUMMARY:Made Together
DESCRIPTION:Get creative as a family in Made Together\,  our monthly hands-
 on art program! Each session features a fun and colorfulproject that’s ea
 sy for all ages to enjoy. We’ll provide the supplies—you bring the imag
 ination! Whether you’re craftingside-by-side or teaming up on a masterpie
 ce\,  it’s all about making something special together.\nhttps://pocld.or
 g/events/made-together/
URL:https://pocld.org/events/made-together/
END:VEVENT
END:VCALENDAR