BEGIN:VCALENDAR
VERSION:2.0
PRODID:-//eventon.com NONSGML v1.0//EN
CALSCALE:GREGORIAN
METHOD:PUBLISH
BEGIN:VEVENT
UID:69e74e7909161
DTSTAMP:20260421T101625Z
DTSTART:20250731T120000Z
DTEND:20250731T190000Z
LOCATION:Newport Branch Library 116 S Washington Ave\,  Newport\,  WA 99156
SUMMARY:Harry Potter Day!!
DESCRIPTION:Come celebrate Harry Potter Day and the wrap up to our Potter P
 als! Watch both parts of Harry Potter and the Deathly Hallows\,  enjoy some
  snacks\,  make some crafts and even enjoy a game or two!\nhttps://pocld.or
 g/events/harry-potter-day/
URL:https://pocld.org/events/harry-potter-day/
END:VEVENT
END:VCALENDAR