BEGIN:VCALENDAR
VERSION:2.0
PRODID:-//eventon.com NONSGML v1.0//EN
CALSCALE:GREGORIAN
METHOD:PUBLISH
BEGIN:VEVENT
UID:69e7ac9343266
DTSTAMP:20260421T165755Z
DTSTART:20250816T160000Z
DTEND:20250816T170000Z
LOCATION:Calispel Valley Library 107 S 1st Ave Cusick\,  WA 99119
SUMMARY:Walking Club
DESCRIPTION:Meet at the Calispel Valley Library book drop @ 9am to walk\,  
 talk\,  enjoy the wildlife and keep fit. Pets on leashes are welcome.&nbsp;
  If you are new to the area this is a great way to meet people. Bring your 
 camera and binoculars. Eagles and other feathered friends as[..]\nhttps://p
 ocld.org/events/walking-club-12/var/ri-13.l-L1
URL:https://pocld.org/events/walking-club-12/var/ri-13.l-L1
END:VEVENT
END:VCALENDAR