BEGIN:VCALENDAR
VERSION:2.0
PRODID:-//eventon.com NONSGML v1.0//EN
CALSCALE:GREGORIAN
METHOD:PUBLISH
BEGIN:VEVENT
UID:69e4f0c71c14d
DTSTAMP:20260419T151207Z
DTSTART:20250822T200000Z
DTEND:20250822T220000Z
LOCATION:Newport Branch Library 116 S Washington Ave\,  Newport\,  WA 99156
SUMMARY:Crafty Corner: Suncatchers
DESCRIPTION:We’ll be doing a fun craft every month\,  just for adults. Th
 is month we’ll be making suncatchers! Please RSVP so we can ensure enough
  craft supplies.\nhttps://pocld.org/events/crafty-corner-suncatchers/
URL:https://pocld.org/events/crafty-corner-suncatchers/
END:VEVENT
END:VCALENDAR