BEGIN:VCALENDAR
VERSION:2.0
PRODID:-//eventon.com NONSGML v1.0//EN
CALSCALE:GREGORIAN
METHOD:PUBLISH
BEGIN:VEVENT
UID:69e9611e415c8
DTSTAMP:20260423T000030Z
DTSTART:20221110T190000Z
DTEND:20221110T200000Z
LOCATION:Ione Branch Library 210 Blackwell St\,  Ione\,  WA 99139
SUMMARY:Storytime
DESCRIPTION:Bring your kiddos and we&#8217;ll read a story and then do a cr
 aft\,  play games and color together! Themes for November will be Veterans 
 Day and Native American Heritage Month. All ages are welcome!\nhttps://pocl
 d.org/events/story-time/
URL:https://pocld.org/events/story-time/
END:VEVENT
END:VCALENDAR