BEGIN:VCALENDAR
VERSION:2.0
PRODID:-//eventon.com NONSGML v1.0//EN
CALSCALE:GREGORIAN
METHOD:PUBLISH
BEGIN:VEVENT
UID:69e55d1190b14
DTSTAMP:20260419T225409Z
DTSTART:20220901T224500Z
DTEND:20220902T065000Z
LOCATION:Calispel Valley Library 107 S 1st Ave Cusick\,  WA 99119
SUMMARY:The Afterschool Art Bar
DESCRIPTION:Every school day after school. Open until 15 minutes before the
  library closes. Check out the supplies and ideas and create your own uniqu
 e projects.\nhttps://pocld.org/events/the-afterschool-art-bar/
URL:https://pocld.org/events/the-afterschool-art-bar/
END:VEVENT
END:VCALENDAR