BEGIN:VCALENDAR
VERSION:2.0
PRODID:-//eventon.com NONSGML v1.0//EN
CALSCALE:GREGORIAN
METHOD:PUBLISH
BEGIN:VEVENT
UID:69e59640728d7
DTSTAMP:20260420T025808Z
DTSTART:20221019T170000Z
DTEND:20221019T180000Z
LOCATION:Newport Branch Library 116 S Washington Ave\,  Newport\,  WA 99156
SUMMARY:Storytime
DESCRIPTION:Join us at the Newport Public Library for stories\,  rhymes\,  
 songs and play while we learn and explore new topics! This week we will be 
 learning about the letter J!\nhttps://pocld.org/events/storytime-70/
URL:https://pocld.org/events/storytime-70/
END:VEVENT
END:VCALENDAR