BEGIN:VCALENDAR
VERSION:2.0
PRODID:-//eventon.com NONSGML v1.0//EN
CALSCALE:GREGORIAN
METHOD:PUBLISH
BEGIN:VEVENT
UID:69e9dee3bac5e
DTSTAMP:20260423T085707Z
DTSTART:20221012T170000Z
DTEND:20221012T180000Z
LOCATION:Newport Branch Library 116 S Washington Ave\,  Newport\,  WA 99156
SUMMARY:Storytime
DESCRIPTION:Join us at the Newport Public Library for stories\,  rhymes\,  
 songs and play while we learn and explore new topics! This week we will be 
 learning about the letter E\,  since last week was cancelled.\nhttps://pocl
 d.org/events/storytime-67/
URL:https://pocld.org/events/storytime-67/
END:VEVENT
END:VCALENDAR