BEGIN:VCALENDAR
VERSION:2.0
PRODID:-//eventon.com NONSGML v1.0//EN
CALSCALE:GREGORIAN
METHOD:PUBLISH
BEGIN:VEVENT
UID:69e73a7ede33b
DTSTAMP:20260421T085110Z
DTSTART:20221219T190000Z
DTEND:20221219T200000Z
LOCATION:Newport Branch Library 116 S Washington Ave\,  Newport\,  WA 99156
SUMMARY:Indoor Snow Fun
DESCRIPTION:Snow a little too cold to play with as much as you want? Well w
 e’ve got you covered with snow crafts and activities.\nhttps://pocld.org/
 events/indoor-snow-fun/
URL:https://pocld.org/events/indoor-snow-fun/
END:VEVENT
END:VCALENDAR