BEGIN:VCALENDAR
VERSION:2.0
PRODID:-//eventon.com NONSGML v1.0//EN
CALSCALE:GREGORIAN
METHOD:PUBLISH
BEGIN:VEVENT
UID:69e6e5699a223
DTSTAMP:20260421T024809Z
DTSTART:20230130
DTEND:20230131
LOCATION:Newport Branch Library 116 S Washington Ave\,  Newport\,  WA 99156
SUMMARY:Valentines for Seniors
DESCRIPTION:Come on in and make some valentines for our senior citizens. Af
 ter all\,  everyone deserves a valentine.\nhttps://pocld.org/events/valenti
 nes-for-seniors/
URL:https://pocld.org/events/valentines-for-seniors/
END:VEVENT
END:VCALENDAR