BEGIN:VCALENDAR
VERSION:2.0
PRODID:-//eventon.com NONSGML v1.0//EN
CALSCALE:GREGORIAN
METHOD:PUBLISH
BEGIN:VEVENT
UID:69e5159b1931b
DTSTAMP:20260419T174915Z
DTSTART:20230122T000000Z
DTEND:20230122T010000Z
LOCATION:Metalines Community Library 302 Park St\,  Metaline Falls\,  WA 99153
SUMMARY:Shadow Puppet Theater
DESCRIPTION:Discover the magical world of shadow puppetry with Daniel Baras
 h of Firelight Shadow Theater. The audience will be encouraged to participa
 te throughout the program\,  and volunteers will be invited up to the shado
 w screen to help perform the shows. See you in the land of shadows!\nhttps:
 //pocld.org/events/shadow-puppet-theater-3/
URL:https://pocld.org/events/shadow-puppet-theater-3/
END:VEVENT
END:VCALENDAR