BEGIN:VCALENDAR
VERSION:2.0
PRODID:-//eventon.com NONSGML v1.0//EN
CALSCALE:GREGORIAN
METHOD:PUBLISH
BEGIN:VEVENT
UID:69e73ffa837fd
DTSTAMP:20260421T091434Z
DTSTART:20230119T233000Z
DTEND:20230120T023000Z
LOCATION:Newport Branch Library 116 S Washington Ave\,  Newport\,  WA 99156
SUMMARY:Teen Party: Alphabet Soup
DESCRIPTION:A party that&#8217;s based around the alphabet\,  with food! Te
 ens can come hang out and help plan the next event to earn volunteer hours
 . \nhttps://pocld.org/events/teen-party-alphabet-soup/
URL:https://pocld.org/events/teen-party-alphabet-soup/
END:VEVENT
END:VCALENDAR