BEGIN:VCALENDAR
VERSION:2.0
PRODID:-//eventon.com NONSGML v1.0//EN
CALSCALE:GREGORIAN
METHOD:PUBLISH
BEGIN:VEVENT
UID:69e7368b77594
DTSTAMP:20260421T083419Z
DTSTART:20230517T230000Z
DTEND:20230518T000000Z
LOCATION:Metalines Community Library 302 Park St\,  Metaline Falls\,  WA 99153
SUMMARY:Storytime
DESCRIPTION:Bring your kiddos and we&#8217;ll read a story and then do a cr
 aft\,  play games and color together! This week we will learn about being b
 ear aware.\nhttps://pocld.org/events/storytime-126/
URL:https://pocld.org/events/storytime-126/
END:VEVENT
END:VCALENDAR