BEGIN:VCALENDAR
VERSION:2.0
PRODID:-//eventon.com NONSGML v1.0//EN
CALSCALE:GREGORIAN
METHOD:PUBLISH
BEGIN:VEVENT
UID:69ed340d1b260
DTSTAMP:20260425T213717Z
DTSTART:20230316T223000Z
DTEND:20230317T013000Z
LOCATION:Newport Branch Library 116 S Washington Ave\,  Newport\,  WA 99156
SUMMARY:It's Not Over 'Til It's Clover
DESCRIPTION:A teen party planned by our Teen Advisory Board! Join us as we 
 celebrate St. Patrick&#8217;s Day with lime sherbet floats\,  treats\,  gam
 es and a movie!\nhttps://pocld.org/events/its-not-over-til-its-clover/
URL:https://pocld.org/events/its-not-over-til-its-clover/
END:VEVENT
END:VCALENDAR