BEGIN:VCALENDAR
VERSION:2.0
PRODID:-//eventon.com NONSGML v1.0//EN
CALSCALE:GREGORIAN
METHOD:PUBLISH
BEGIN:VEVENT
UID:69eb99872f20d
DTSTAMP:20260424T162543Z
DTSTART:20230530T233000Z
DTEND:20230531T010000Z
LOCATION:Metalines Community Library 302 Park St\,  Metaline Falls\,  WA 99153
SUMMARY:Inland NW Opera
DESCRIPTION:Inland NorthWest Opera from Spokane will be performing the fami
 ly friendly opera\,  Earth to Kinzie\,  on our very own Cutter Theatre stag
 e!&nbsp; Kenzie is a fifth-grader with asthma\,  homework\,  and an active 
 imagination. When she and her mother move into a shelter\,  Kenzie finds co
 mfort in her video game adventures[..]\nhttps://pocld.org/events/inland-nw-
 opera/
URL:https://pocld.org/events/inland-nw-opera/
END:VEVENT
END:VCALENDAR