BEGIN:VCALENDAR
VERSION:2.0
PRODID:-//eventon.com NONSGML v1.0//EN
CALSCALE:GREGORIAN
METHOD:PUBLISH
BEGIN:VEVENT
UID:69e73b3107c86
DTSTAMP:20260421T085409Z
DTSTART:20230922T010000Z
DTEND:20230922T023000Z
LOCATION:Create Arts Center 900 4th St.
SUMMARY:Author Talk: Ammi Midstokke
DESCRIPTION:Come hear Ammi Midstokke\,  Spokesman Review columnist and&nbsp
 ; author of All the Things: Mountain Misadventure\,  Relationshipping\,  an
 d Other Hazards of an Off-Grid Life. Ammi will be reading excerpts from her
  book\,  sharing unpublished background stories\,  and hosting a lively Q &
 amp; A of questionable gardening advice among other topics of[..]\nhttps://
 pocld.org/events/author-talk-ammi-midstokke/
URL:https://pocld.org/events/author-talk-ammi-midstokke/
END:VEVENT
END:VCALENDAR