BEGIN:VCALENDAR
VERSION:2.0
PRODID:-//eventon.com NONSGML v1.0//EN
CALSCALE:GREGORIAN
METHOD:PUBLISH
BEGIN:VEVENT
UID:69e96ba6a1c5f
DTSTAMP:20260423T004526Z
DTSTART:20230923T210000Z
DTEND:20230923T220000Z
LOCATION:Newport Branch Library 116 S Washington Ave\,  Newport\,  WA 99156
SUMMARY:Chess Club
DESCRIPTION:Do you know how to play chess? Want to learn? Then join the che
 ss club!\nhttps://pocld.org/events/chess-club-3/
URL:https://pocld.org/events/chess-club-3/
END:VEVENT
END:VCALENDAR