BEGIN:VCALENDAR
VERSION:2.0
PRODID:-//eventon.com NONSGML v1.0//EN
CALSCALE:GREGORIAN
METHOD:PUBLISH
BEGIN:VEVENT
UID:69ec204a54f60
DTSTAMP:20260425T020042Z
DTSTART:20230926T233000Z
DTEND:20230927T003000Z
LOCATION:Ione Branch Library 210 Blackwell St\,  Ione\,  WA 99139
SUMMARY:After School STEM Hour
DESCRIPTION:Join us as we do fun and easy STEM activities to unwind after a
  long day at school! This week we will be making sock puppets.\nhttps://poc
 ld.org/events/after-school-stem-hour-5/
URL:https://pocld.org/events/after-school-stem-hour-5/
END:VEVENT
END:VCALENDAR