BEGIN:VCALENDAR
VERSION:2.0
PRODID:-//eventon.com NONSGML v1.0//EN
CALSCALE:GREGORIAN
METHOD:PUBLISH
BEGIN:VEVENT
UID:69ed7d99bb747
DTSTAMP:20260426T025105Z
DTSTART:20231009T180000Z
DTEND:20231009T190000Z
LOCATION:Metalines Community Library 302 Park St\,  Metaline Falls\,  WA 99153
SUMMARY:Storytime
DESCRIPTION:Bring your kiddos and we&#8217;ll read a story and then do a cr
 aft\,  play games and color together! This week we will talk cookie! (and p
 robably eat some too!)\nhttps://pocld.org/events/storytime-172/
URL:https://pocld.org/events/storytime-172/
END:VEVENT
END:VCALENDAR