BEGIN:VCALENDAR
VERSION:2.0
PRODID:-//eventon.com NONSGML v1.0//EN
CALSCALE:GREGORIAN
METHOD:PUBLISH
BEGIN:VEVENT
UID:69e8c2655d317
DTSTAMP:20260422T124317Z
DTSTART:20231002T230000Z
DTEND:20231003T000000Z
LOCATION:Metalines Community Library 302 Park St\,  Metaline Falls\,  WA 99153
SUMMARY:After School STEM Hour
DESCRIPTION:Join us as we do fun and easy STEM activities to unwind after a
  long day at school! This week we will be making lava lamps.\nhttps://pocld
 .org/events/after-school-stem-hour-11/
URL:https://pocld.org/events/after-school-stem-hour-11/
END:VEVENT
END:VCALENDAR