BEGIN:VCALENDAR
VERSION:2.0
PRODID:-//eventon.com NONSGML v1.0//EN
CALSCALE:GREGORIAN
METHOD:PUBLISH
BEGIN:VEVENT
UID:69ead01ebb244
DTSTAMP:20260424T020622Z
DTSTART:20231007T180000Z
DTEND:20231007T210000Z
LOCATION:Newport Branch Library 116 S Washington Ave\,  Newport\,  WA 99156
SUMMARY:Mad Hatter Day
DESCRIPTION:Happy Un-Birthday! Come in for crafts and activities to celebra
 te all things Alice in Wonderland!\nhttps://pocld.org/events/mad-hatter-day
 /
URL:https://pocld.org/events/mad-hatter-day/
END:VEVENT
END:VCALENDAR