BEGIN:VCALENDAR
VERSION:2.0
PRODID:-//eventon.com NONSGML v1.0//EN
CALSCALE:GREGORIAN
METHOD:PUBLISH
BEGIN:VEVENT
UID:69e9f48514b4e
DTSTAMP:20260423T102925Z
DTSTART:20231208T230000Z
DTEND:20231209T000000Z
LOCATION:Ione Branch Library 210 Blackwell St\,  Ione\,  WA 99139
SUMMARY:Teen Story Hour
DESCRIPTION:Let&#8217;s take a journey to the dark side of the fairy tales 
 and folklore that make up the holiday season. We&#8217;ll head to the fores
 ts of Northeastern Europe to take on the tale of the Krampus.\nhttps://pocl
 d.org/events/teen-story-hour-4/
URL:https://pocld.org/events/teen-story-hour-4/
END:VEVENT
END:VCALENDAR